BEGIN:VCALENDAR
VERSION:2.0
PRODID:-//Mykolo Biržiškos gimnazija - ECPv5.4.0.1//NONSGML v1.0//EN
CALSCALE:GREGORIAN
METHOD:PUBLISH
X-WR-CALNAME:Mykolo Biržiškos gimnazija
X-ORIGINAL-URL:https://vmbg.lt
X-WR-CALDESC:Events for Mykolo Biržiškos gimnazija
BEGIN:VTIMEZONE
TZID:Europe/Helsinki
BEGIN:DAYLIGHT
TZOFFSETFROM:+0200
TZOFFSETTO:+0300
TZNAME:EEST
DTSTART:20240331T010000
END:DAYLIGHT
BEGIN:STANDARD
TZOFFSETFROM:+0300
TZOFFSETTO:+0200
TZNAME:EET
DTSTART:20241027T010000
END:STANDARD
END:VTIMEZONE
BEGIN:VEVENT
DTSTART;VALUE=DATE:20240319
DTEND;VALUE=DATE:20240320
DTSTAMP:20260421T111456
CREATED:20240227T181218Z
LAST-MODIFIED:20240227T181218Z
UID:14736-1710806400-1710892799@vmbg.lt
SUMMARY:Tarptautinis mokinių piešinių konkursas „Gamta – didelis stebuklas“. Šiaulių dailės mokykla
DESCRIPTION:
URL:https://vmbg.lt/renginiai/tarptautinis-mokiniu-piesiniu-konkursas-gamta-didelis-stebuklas-siauliu-dailes-mokykla/
END:VEVENT
BEGIN:VEVENT
DTSTART;TZID=Europe/Helsinki:20240319T080000
DTEND;TZID=Europe/Helsinki:20240319T093000
DTSTAMP:20260421T111456
CREATED:20240131T071527Z
LAST-MODIFIED:20240131T071527Z
UID:14562-1710835200-1710840600@vmbg.lt
SUMMARY:ANGLŲ KALBOS TARPINIS PATIKRINIMAS III kl. mokiniams PAMOKŲ PRADŽIA nuo 10.00 val. (sutrumpintos)
DESCRIPTION:
URL:https://vmbg.lt/renginiai/anglu-kalbos-tarpinis-patikrinimas-iii-kl-mokiniams-pamoku-pradzia-nuo-10-00-val-sutrumpintos/
END:VEVENT
BEGIN:VEVENT
DTSTART;TZID=Europe/Helsinki:20240319T100000
DTEND;TZID=Europe/Helsinki:20240319T100000
DTSTAMP:20260421T111456
CREATED:20240131T071750Z
LAST-MODIFIED:20240131T071750Z
UID:14564-1710842400-1710842400@vmbg.lt
SUMMARY:LIETUVIŲ KALBOS IR LITERATŪROS ĮSKAITA IV kl. mokiniams
DESCRIPTION:
URL:https://vmbg.lt/renginiai/lietuviu-kalbos-ir-literaturos-iskaita-iv-kl-mokiniams/
END:VEVENT
END:VCALENDAR