BEGIN:VCALENDAR
VERSION:2.0
PRODID:-//Mykolo Biržiškos gimnazija - ECPv5.4.0.1//NONSGML v1.0//EN
CALSCALE:GREGORIAN
METHOD:PUBLISH
X-WR-CALNAME:Mykolo Biržiškos gimnazija
X-ORIGINAL-URL:https://vmbg.lt
X-WR-CALDESC:Events for Mykolo Biržiškos gimnazija
BEGIN:VTIMEZONE
TZID:Europe/Helsinki
BEGIN:DAYLIGHT
TZOFFSETFROM:+0200
TZOFFSETTO:+0300
TZNAME:EEST
DTSTART:20240331T010000
END:DAYLIGHT
BEGIN:STANDARD
TZOFFSETFROM:+0300
TZOFFSETTO:+0200
TZNAME:EET
DTSTART:20241027T010000
END:STANDARD
END:VTIMEZONE
BEGIN:VEVENT
DTSTART;VALUE=DATE:20240422
DTEND;VALUE=DATE:20240423
DTSTAMP:20260421T113717
CREATED:20240324T180704Z
LAST-MODIFIED:20240324T180704Z
UID:14920-1713744000-1713830399@vmbg.lt
SUMMARY:Tapybos darbų paroda „Sveikinimas“ Vilniaus Martyno Mažvydo progimnazijoje
DESCRIPTION:
URL:https://vmbg.lt/renginiai/tapybos-darbu-paroda-sveikinimas-vilniaus-martyno-mazvydo-progimnazijoje/
END:VEVENT
BEGIN:VEVENT
DTSTART;VALUE=DATE:20240422
DTEND;VALUE=DATE:20240423
DTSTAMP:20260421T113717
CREATED:20240324T180731Z
LAST-MODIFIED:20240416T070229Z
UID:14922-1713744000-1713830399@vmbg.lt
SUMMARY:Vilniaus miesto vaikų ir jaunimo teatro festivalis\,  \,\,Vaidenis-24"
DESCRIPTION:
URL:https://vmbg.lt/renginiai/vilniaus-miesto-vaiku-ir-jaunimo-teatro-festivalis-vaidenis-24/
END:VEVENT
END:VCALENDAR