BEGIN:VCALENDAR
VERSION:2.0
PRODID:-//Mykolo Biržiškos gimnazija - ECPv5.4.0.1//NONSGML v1.0//EN
CALSCALE:GREGORIAN
METHOD:PUBLISH
X-WR-CALNAME:Mykolo Biržiškos gimnazija
X-ORIGINAL-URL:https://vmbg.lt
X-WR-CALDESC:Events for Mykolo Biržiškos gimnazija
BEGIN:VTIMEZONE
TZID:Europe/Helsinki
BEGIN:DAYLIGHT
TZOFFSETFROM:+0200
TZOFFSETTO:+0300
TZNAME:EEST
DTSTART:20240331T010000
END:DAYLIGHT
BEGIN:STANDARD
TZOFFSETFROM:+0300
TZOFFSETTO:+0200
TZNAME:EET
DTSTART:20241027T010000
END:STANDARD
END:VTIMEZONE
BEGIN:VEVENT
DTSTART;TZID=Europe/Helsinki:20240503T130000
DTEND;TZID=Europe/Helsinki:20240503T130000
DTSTAMP:20260424T060725
CREATED:20240426T061752Z
LAST-MODIFIED:20240426T061752Z
UID:15223-1714741200-1714741200@vmbg.lt
SUMMARY:„MBG Naktigonė“
DESCRIPTION:
URL:https://vmbg.lt/renginiai/mbg-naktigone/
END:VEVENT
END:VCALENDAR