BEGIN:VCALENDAR
VERSION:2.0
PRODID:-//Mykolo Biržiškos gimnazija - ECPv5.4.0.1//NONSGML v1.0//EN
CALSCALE:GREGORIAN
METHOD:PUBLISH
X-WR-CALNAME:Mykolo Biržiškos gimnazija
X-ORIGINAL-URL:https://vmbg.lt
X-WR-CALDESC:Events for Mykolo Biržiškos gimnazija
BEGIN:VTIMEZONE
TZID:Europe/Helsinki
BEGIN:DAYLIGHT
TZOFFSETFROM:+0200
TZOFFSETTO:+0300
TZNAME:EEST
DTSTART:20240331T010000
END:DAYLIGHT
BEGIN:STANDARD
TZOFFSETFROM:+0300
TZOFFSETTO:+0200
TZNAME:EET
DTSTART:20241027T010000
END:STANDARD
END:VTIMEZONE
BEGIN:VEVENT
DTSTART;TZID=Europe/Helsinki:20240506T080000
DTEND;TZID=Europe/Helsinki:20240506T093000
DTSTAMP:20260424T100113
CREATED:20231005T154734Z
LAST-MODIFIED:20240426T061903Z
UID:13980-1714982400-1714987800@vmbg.lt
SUMMARY:CHEMIJOS TP III kl. mokiniams PAMOKŲ PRADŽIA nuo 10.00 val. (sutrumpintos)
DESCRIPTION:
URL:https://vmbg.lt/renginiai/cemijos-tp-2024-03-27/
END:VEVENT
END:VCALENDAR