BEGIN:VCALENDAR
VERSION:2.0
PRODID:-//Mykolo Biržiškos gimnazija - ECPv5.4.0.1//NONSGML v1.0//EN
CALSCALE:GREGORIAN
METHOD:PUBLISH
X-WR-CALNAME:Mykolo Biržiškos gimnazija
X-ORIGINAL-URL:https://vmbg.lt
X-WR-CALDESC:Events for Mykolo Biržiškos gimnazija
BEGIN:VTIMEZONE
TZID:Europe/Helsinki
BEGIN:DAYLIGHT
TZOFFSETFROM:+0200
TZOFFSETTO:+0300
TZNAME:EEST
DTSTART:20240331T010000
END:DAYLIGHT
BEGIN:STANDARD
TZOFFSETFROM:+0300
TZOFFSETTO:+0200
TZNAME:EET
DTSTART:20241027T010000
END:STANDARD
END:VTIMEZONE
BEGIN:VEVENT
DTSTART;VALUE=DATE:20240507
DTEND;VALUE=DATE:20240508
DTSTAMP:20260424T115105
CREATED:20240426T062029Z
LAST-MODIFIED:20240426T062029Z
UID:15227-1715040000-1715126399@vmbg.lt
SUMMARY:Teatro ir dailės sintezė: scenografijos maketų\, kostiumų eskizų paroda
DESCRIPTION:
URL:https://vmbg.lt/renginiai/teatro-ir-dailes-sinteze-scenografijos-maketu-kostiumu-eskizu-paroda/
END:VEVENT
BEGIN:VEVENT
DTSTART;TZID=Europe/Helsinki:20240507T080000
DTEND;TZID=Europe/Helsinki:20240507T093000
DTSTAMP:20260424T115105
CREATED:20231005T155310Z
LAST-MODIFIED:20240426T061946Z
UID:13994-1715068800-1715074200@vmbg.lt
SUMMARY:ISTORIJOS TP III kl. mokiniams PAMOKŲ PRADŽIA nuo 10.00 val. (sutrumpintos)
DESCRIPTION:
URL:https://vmbg.lt/renginiai/istorijos-tp/
END:VEVENT
END:VCALENDAR