BEGIN:VCALENDAR
VERSION:2.0
PRODID:-//Mykolo Biržiškos gimnazija - ECPv5.4.0.1//NONSGML v1.0//EN
CALSCALE:GREGORIAN
METHOD:PUBLISH
X-WR-CALNAME:Mykolo Biržiškos gimnazija
X-ORIGINAL-URL:https://vmbg.lt
X-WR-CALDESC:Events for Mykolo Biržiškos gimnazija
BEGIN:VTIMEZONE
TZID:Europe/Helsinki
BEGIN:DAYLIGHT
TZOFFSETFROM:+0200
TZOFFSETTO:+0300
TZNAME:EEST
DTSTART:20240331T010000
END:DAYLIGHT
BEGIN:STANDARD
TZOFFSETFROM:+0300
TZOFFSETTO:+0200
TZNAME:EET
DTSTART:20241027T010000
END:STANDARD
END:VTIMEZONE
BEGIN:VEVENT
DTSTART;TZID=Europe/Helsinki:20240509T084500
DTEND;TZID=Europe/Helsinki:20240509T120000
DTSTAMP:20260424T151308
CREATED:20240426T062320Z
LAST-MODIFIED:20240426T062320Z
UID:15229-1715244300-1715256000@vmbg.lt
SUMMARY:PUPP Lietuvių k. ir literatūra (raštu)
DESCRIPTION:
URL:https://vmbg.lt/renginiai/pupp-lietuviu-k-ir-literatura-rastu-2/
END:VEVENT
BEGIN:VEVENT
DTSTART;TZID=Europe/Helsinki:20240509T120000
DTEND;TZID=Europe/Helsinki:20240509T150000
DTSTAMP:20260424T151308
CREATED:20240426T062414Z
LAST-MODIFIED:20240426T062414Z
UID:15231-1715256000-1715266800@vmbg.lt
SUMMARY:Fizikos bandomasis egzaminas IV klasių mokiniams
DESCRIPTION:
URL:https://vmbg.lt/renginiai/fizikos-bandomasis-egzaminas-iv-klasiu-mokiniams/
END:VEVENT
END:VCALENDAR