BEGIN:VCALENDAR
VERSION:2.0
PRODID:-//Mykolo Biržiškos gimnazija - ECPv5.4.0.1//NONSGML v1.0//EN
CALSCALE:GREGORIAN
METHOD:PUBLISH
X-WR-CALNAME:Mykolo Biržiškos gimnazija
X-ORIGINAL-URL:https://vmbg.lt
X-WR-CALDESC:Events for Mykolo Biržiškos gimnazija
BEGIN:VTIMEZONE
TZID:Europe/Helsinki
BEGIN:DAYLIGHT
TZOFFSETFROM:+0200
TZOFFSETTO:+0300
TZNAME:EEST
DTSTART:20240331T010000
END:DAYLIGHT
BEGIN:STANDARD
TZOFFSETFROM:+0300
TZOFFSETTO:+0200
TZNAME:EET
DTSTART:20241027T010000
END:STANDARD
END:VTIMEZONE
BEGIN:VEVENT
DTSTART;TZID=Europe/Helsinki:20240513T084500
DTEND;TZID=Europe/Helsinki:20240513T112000
DTSTAMP:20260424T214913
CREATED:20231005T155520Z
LAST-MODIFIED:20240426T062618Z
UID:14000-1715589900-1715599200@vmbg.lt
SUMMARY:Matematikos e-PUPP II kl. mokiniams
DESCRIPTION:
URL:https://vmbg.lt/renginiai/pupp-matematika/
END:VEVENT
BEGIN:VEVENT
DTSTART;TZID=Europe/Helsinki:20240513T120000
DTEND;TZID=Europe/Helsinki:20240513T140000
DTSTAMP:20260424T214913
CREATED:20240426T062651Z
LAST-MODIFIED:20240426T062651Z
UID:15234-1715601600-1715608800@vmbg.lt
SUMMARY:Apibendrinamasis matematikos darbas I klasių mokiniams
DESCRIPTION:
URL:https://vmbg.lt/renginiai/apibendrinamasis-matematikos-darbas-i-klasiu-mokiniams/
END:VEVENT
END:VCALENDAR