BEGIN:VCALENDAR
VERSION:2.0
PRODID:-//Mykolo Biržiškos gimnazija - ECPv5.4.0.1//NONSGML v1.0//EN
CALSCALE:GREGORIAN
METHOD:PUBLISH
X-WR-CALNAME:Mykolo Biržiškos gimnazija
X-ORIGINAL-URL:https://vmbg.lt
X-WR-CALDESC:Events for Mykolo Biržiškos gimnazija
BEGIN:VTIMEZONE
TZID:Europe/Helsinki
BEGIN:DAYLIGHT
TZOFFSETFROM:+0200
TZOFFSETTO:+0300
TZNAME:EEST
DTSTART:20240331T010000
END:DAYLIGHT
BEGIN:STANDARD
TZOFFSETFROM:+0300
TZOFFSETTO:+0200
TZNAME:EET
DTSTART:20241027T010000
END:STANDARD
END:VTIMEZONE
BEGIN:VEVENT
DTSTART;TZID=Europe/Helsinki:20240514T084500
DTEND;TZID=Europe/Helsinki:20240514T112000
DTSTAMP:20260424T232914
CREATED:20240426T062742Z
LAST-MODIFIED:20240426T062742Z
UID:15236-1715676300-1715685600@vmbg.lt
SUMMARY:Matematikos e-PUPP II kl. mokiniams
DESCRIPTION:
URL:https://vmbg.lt/renginiai/matematikos-e-pupp-ii-kl-mokiniams/
END:VEVENT
BEGIN:VEVENT
DTSTART;TZID=Europe/Helsinki:20240514T120000
DTEND;TZID=Europe/Helsinki:20240514T150000
DTSTAMP:20260424T232914
CREATED:20240426T062854Z
LAST-MODIFIED:20240426T062854Z
UID:15238-1715688000-1715698800@vmbg.lt
SUMMARY:Matematikos bandomasis brandos egzaminas IV klasių mokiniams
DESCRIPTION:
URL:https://vmbg.lt/renginiai/matematikos-bandomasis-brandos-egzaminas-iv-klasiu-mokiniams/
END:VEVENT
BEGIN:VEVENT
DTSTART;TZID=Europe/Helsinki:20240514T120000
DTEND;TZID=Europe/Helsinki:20240514T150000
DTSTAMP:20260424T232914
CREATED:20240426T062948Z
LAST-MODIFIED:20240426T062948Z
UID:15240-1715688000-1715698800@vmbg.lt
SUMMARY:Apibendrinamasis matematikos darbas III klasių mokiniams
DESCRIPTION:
URL:https://vmbg.lt/renginiai/apibendrinamasis-matematikos-darbas-iii-klasiu-mokiniams/
END:VEVENT
END:VCALENDAR