BEGIN:VCALENDAR
VERSION:2.0
PRODID:-//Mykolo Biržiškos gimnazija - ECPv5.4.0.1//NONSGML v1.0//EN
CALSCALE:GREGORIAN
METHOD:PUBLISH
X-WR-CALNAME:Mykolo Biržiškos gimnazija
X-ORIGINAL-URL:https://vmbg.lt
X-WR-CALDESC:Events for Mykolo Biržiškos gimnazija
BEGIN:VTIMEZONE
TZID:Europe/Helsinki
BEGIN:DAYLIGHT
TZOFFSETFROM:+0200
TZOFFSETTO:+0300
TZNAME:EEST
DTSTART:20260329T010000
END:DAYLIGHT
BEGIN:STANDARD
TZOFFSETFROM:+0300
TZOFFSETTO:+0200
TZNAME:EET
DTSTART:20261025T010000
END:STANDARD
END:VTIMEZONE
BEGIN:VEVENT
DTSTART;VALUE=DATE:20260312
DTEND;VALUE=DATE:20260315
DTSTAMP:20260421T143927
CREATED:20260227T093121Z
LAST-MODIFIED:20260227T093121Z
UID:18352-1773273600-1773532799@vmbg.lt
SUMMARY:Lietuvos mokinių 58-osios biologijos olimpiados šalies etapas. Birštono gimnazija
DESCRIPTION:
URL:https://vmbg.lt/renginiai/lietuvos-mokiniu-58-osios-biologijos-olimpiados-salies-etapas-birstono-gimnazija/
END:VEVENT
BEGIN:VEVENT
DTSTART;TZID=Europe/Helsinki:20260312T140000
DTEND;TZID=Europe/Helsinki:20260312T140000
DTSTAMP:20260421T143927
CREATED:20260227T092914Z
LAST-MODIFIED:20260227T092914Z
UID:18348-1773324000-1773324000@vmbg.lt
SUMMARY:„Chorų karai 2026“ atrankos turas\, dalyvauja II klasių chorai. Aktų salė
DESCRIPTION:
URL:https://vmbg.lt/renginiai/choru-karai-2026-atrankos-turas-dalyvauja-ii-klasiu-chorai-aktu-sale/
END:VEVENT
END:VCALENDAR