BEGIN:VCALENDAR
VERSION:2.0
PRODID:-//Mykolo Biržiškos gimnazija - ECPv5.4.0.1//NONSGML v1.0//EN
CALSCALE:GREGORIAN
METHOD:PUBLISH
X-WR-CALNAME:Mykolo Biržiškos gimnazija
X-ORIGINAL-URL:https://vmbg.lt
X-WR-CALDESC:Events for Mykolo Biržiškos gimnazija
BEGIN:VTIMEZONE
TZID:Europe/Helsinki
BEGIN:DAYLIGHT
TZOFFSETFROM:+0200
TZOFFSETTO:+0300
TZNAME:EEST
DTSTART:20260329T010000
END:DAYLIGHT
BEGIN:STANDARD
TZOFFSETFROM:+0300
TZOFFSETTO:+0200
TZNAME:EET
DTSTART:20261025T010000
END:STANDARD
END:VTIMEZONE
BEGIN:VEVENT
DTSTART;VALUE=DATE:20260326
DTEND;VALUE=DATE:20260329
DTSTAMP:20260422T144054
CREATED:20260318T063431Z
LAST-MODIFIED:20260318T063431Z
UID:18422-1774483200-1774742399@vmbg.lt
SUMMARY:Lietuvos mokinių 73-osios fizikos olimpiados šalies etapas. KTU
DESCRIPTION:
URL:https://vmbg.lt/renginiai/lietuvos-mokiniu-73-osios-fizikos-olimpiados-salies-etapas-ktu/
END:VEVENT
BEGIN:VEVENT
DTSTART;TZID=Europe/Helsinki:20260327T110000
DTEND;TZID=Europe/Helsinki:20260327T120000
DTSTAMP:20260422T144054
CREATED:20260304T133013Z
LAST-MODIFIED:20260304T133013Z
UID:18382-1774609200-1774612800@vmbg.lt
SUMMARY:Paskaita II d\, II f\, III e\, IV a klasių mokiniams „Dirbtinio intelekto galimybės“. Aktų salė
DESCRIPTION:
URL:https://vmbg.lt/renginiai/paskaita-ii-d-ii-f-iii-e-iv-a-klasiu-mokiniams-dirbtinio-intelekto-galimybes-aktu-sale/
END:VEVENT
BEGIN:VEVENT
DTSTART;TZID=Europe/Helsinki:20260327T130000
DTEND;TZID=Europe/Helsinki:20260327T130000
DTSTAMP:20260422T144054
CREATED:20260304T133143Z
LAST-MODIFIED:20260304T133252Z
UID:18384-1774616400-1774616400@vmbg.lt
SUMMARY:Doc. dr. Karolio Petrausko paskaita III-IV klasių mokiniams „Kaip susitaria kompiuteriai“. 203 kab.
DESCRIPTION:
URL:https://vmbg.lt/renginiai/doc-dr-karolio-petrausko-paskaita-iii-iv-klasiu-mokiniams-kaip-susitaria-kompiuteriai-203-kab/
END:VEVENT
END:VCALENDAR