BEGIN:VCALENDAR
VERSION:2.0
PRODID:-//Mykolo Biržiškos gimnazija - ECPv5.4.0.1//NONSGML v1.0//EN
CALSCALE:GREGORIAN
METHOD:PUBLISH
X-WR-CALNAME:Mykolo Biržiškos gimnazija
X-ORIGINAL-URL:https://vmbg.lt
X-WR-CALDESC:Events for Mykolo Biržiškos gimnazija
BEGIN:VTIMEZONE
TZID:Europe/Helsinki
BEGIN:DAYLIGHT
TZOFFSETFROM:+0200
TZOFFSETTO:+0300
TZNAME:EEST
DTSTART:20210328T010000
END:DAYLIGHT
BEGIN:STANDARD
TZOFFSETFROM:+0300
TZOFFSETTO:+0200
TZNAME:EET
DTSTART:20211031T010000
END:STANDARD
END:VTIMEZONE
BEGIN:VEVENT
DTSTART;TZID=Europe/Helsinki:20211115T080000
DTEND;TZID=Europe/Helsinki:20211115T120000
DTSTAMP:20260422T172454
CREATED:20211110T073404Z
LAST-MODIFIED:20211110T073404Z
UID:10782-1636963200-1636977600@vmbg.lt
SUMMARY:Abiturientų prašymų DĖL VBE PASIRINKIMO pateikimas
DESCRIPTION:
URL:https://vmbg.lt/renginiai/abiturientu-prasymu-del-vbe-pasirinkimo-pateikimas/
END:VEVENT
END:VCALENDAR