BEGIN:VCALENDAR
VERSION:2.0
PRODID:-//Mykolo Biržiškos gimnazija - ECPv5.4.0.1//NONSGML v1.0//EN
CALSCALE:GREGORIAN
METHOD:PUBLISH
X-WR-CALNAME:Mykolo Biržiškos gimnazija
X-ORIGINAL-URL:https://vmbg.lt
X-WR-CALDESC:Events for Mykolo Biržiškos gimnazija
BEGIN:VTIMEZONE
TZID:Europe/Helsinki
BEGIN:DAYLIGHT
TZOFFSETFROM:+0200
TZOFFSETTO:+0300
TZNAME:EEST
DTSTART:20220327T010000
END:DAYLIGHT
BEGIN:STANDARD
TZOFFSETFROM:+0300
TZOFFSETTO:+0200
TZNAME:EET
DTSTART:20221030T010000
END:STANDARD
END:VTIMEZONE
BEGIN:VEVENT
DTSTART;TZID=Europe/Helsinki:20220113T080000
DTEND;TZID=Europe/Helsinki:20220113T081000
DTSTAMP:20260422T144101
CREATED:20220109T192035Z
LAST-MODIFIED:20220113T190219Z
UID:11085-1642060800-1642061400@vmbg.lt
SUMMARY:„Atmintis gyva\, nes liudija“
DESCRIPTION:
URL:https://vmbg.lt/renginiai/atmintis-gyva-nes-liudija/
ATTACH;FMTTYPE=image/jpeg:https://vmbg.lt/wp-content/uploads/2022/01/Neuzm2-1-e1641888108372.jpg
END:VEVENT
END:VCALENDAR