BEGIN:VCALENDAR
VERSION:2.0
PRODID:-//Mykolo Biržiškos gimnazija - ECPv5.4.0.1//NONSGML v1.0//EN
CALSCALE:GREGORIAN
METHOD:PUBLISH
X-WR-CALNAME:Mykolo Biržiškos gimnazija
X-ORIGINAL-URL:https://vmbg.lt
X-WR-CALDESC:Events for Mykolo Biržiškos gimnazija
BEGIN:VTIMEZONE
TZID:Europe/Helsinki
BEGIN:DAYLIGHT
TZOFFSETFROM:+0200
TZOFFSETTO:+0300
TZNAME:EEST
DTSTART:20230326T010000
END:DAYLIGHT
BEGIN:STANDARD
TZOFFSETFROM:+0300
TZOFFSETTO:+0200
TZNAME:EET
DTSTART:20231029T010000
END:STANDARD
END:VTIMEZONE
BEGIN:VEVENT
DTSTART;TZID=Europe/Helsinki:20231025T140000
DTEND;TZID=Europe/Helsinki:20231025T140000
DTSTAMP:20260420T041306
CREATED:20231005T145915Z
LAST-MODIFIED:20231005T145915Z
UID:13938-1698242400-1698242400@vmbg.lt
SUMMARY:Debatai prieš mokinių savivaldos rinkimus
DESCRIPTION:
URL:https://vmbg.lt/renginiai/debatai-pries-mokiniu-savivaldos-rinkimus-2/
END:VEVENT
END:VCALENDAR