BEGIN:VCALENDAR
VERSION:2.0
PRODID:-//Mykolo Biržiškos gimnazija - ECPv5.4.0.1//NONSGML v1.0//EN
CALSCALE:GREGORIAN
METHOD:PUBLISH
X-WR-CALNAME:Mykolo Biržiškos gimnazija
X-ORIGINAL-URL:https://vmbg.lt
X-WR-CALDESC:Events for Mykolo Biržiškos gimnazija
BEGIN:VTIMEZONE
TZID:Europe/Helsinki
BEGIN:DAYLIGHT
TZOFFSETFROM:+0200
TZOFFSETTO:+0300
TZNAME:EEST
DTSTART:20210328T010000
END:DAYLIGHT
BEGIN:STANDARD
TZOFFSETFROM:+0300
TZOFFSETTO:+0200
TZNAME:EET
DTSTART:20211031T010000
END:STANDARD
END:VTIMEZONE
BEGIN:VEVENT
DTSTART;VALUE=DATE:20211015
DTEND;VALUE=DATE:20211016
DTSTAMP:20260422T191159
CREATED:20211015T045601Z
LAST-MODIFIED:20211015T045823Z
UID:10692-1634256000-1634342399@vmbg.lt
SUMMARY:II g kl. Gretos Marijos Vaitkevičiūtės ir IV g kl. Aistės Sotvaraitės mokinių tapybos darbų paroda
DESCRIPTION:
URL:https://vmbg.lt/renginiai/ii-g-kl-gretos-marijos-vaitkeviciutes-ir-iv-g-kl-aistes-sotvaraites-mokiniu-tapybos-darbu-paroda/
LOCATION:Prie Aktų salės
END:VEVENT
END:VCALENDAR