BEGIN:VCALENDAR
VERSION:2.0
PRODID:-//Mykolo Biržiškos gimnazija - ECPv5.4.0.1//NONSGML v1.0//EN
CALSCALE:GREGORIAN
METHOD:PUBLISH
X-WR-CALNAME:Mykolo Biržiškos gimnazija
X-ORIGINAL-URL:https://vmbg.lt
X-WR-CALDESC:Events for Mykolo Biržiškos gimnazija
BEGIN:VTIMEZONE
TZID:Europe/Helsinki
BEGIN:DAYLIGHT
TZOFFSETFROM:+0200
TZOFFSETTO:+0300
TZNAME:EEST
DTSTART:20220327T010000
END:DAYLIGHT
BEGIN:STANDARD
TZOFFSETFROM:+0300
TZOFFSETTO:+0200
TZNAME:EET
DTSTART:20221030T010000
END:STANDARD
END:VTIMEZONE
BEGIN:VEVENT
DTSTART;TZID=Europe/Helsinki:20220114T080000
DTEND;TZID=Europe/Helsinki:20220114T084500
DTSTAMP:20260422T144453
CREATED:20220109T192357Z
LAST-MODIFIED:20220109T192357Z
UID:11089-1642147200-1642149900@vmbg.lt
SUMMARY:III kl. mokinių vokiečių kalbos olimpiados gimnazijos etapas
DESCRIPTION:
URL:https://vmbg.lt/renginiai/iii-kl-mokiniu-vokieciu-kalbos-olimpiados-gimnazijos-etapas/
END:VEVENT
END:VCALENDAR