BEGIN:VCALENDAR
VERSION:2.0
PRODID:-//Mykolo Biržiškos gimnazija - ECPv5.4.0.1//NONSGML v1.0//EN
CALSCALE:GREGORIAN
METHOD:PUBLISH
X-WR-CALNAME:Mykolo Biržiškos gimnazija
X-ORIGINAL-URL:https://vmbg.lt
X-WR-CALDESC:Events for Mykolo Biržiškos gimnazija
BEGIN:VTIMEZONE
TZID:Europe/Helsinki
BEGIN:DAYLIGHT
TZOFFSETFROM:+0200
TZOFFSETTO:+0300
TZNAME:EEST
DTSTART:20220327T010000
END:DAYLIGHT
BEGIN:STANDARD
TZOFFSETFROM:+0300
TZOFFSETTO:+0200
TZNAME:EET
DTSTART:20221030T010000
END:STANDARD
END:VTIMEZONE
BEGIN:VEVENT
DTSTART;TZID=Europe/Helsinki:20220114T080000
DTEND;TZID=Europe/Helsinki:20220114T160000
DTSTAMP:20260422T144309
CREATED:20220109T193115Z
LAST-MODIFIED:20220109T193115Z
UID:11095-1642147200-1642176000@vmbg.lt
SUMMARY:III klasių mokinių prašymų pateikimas dėl BRANDOS DARBO PASIRINKIMO
DESCRIPTION:
URL:https://vmbg.lt/renginiai/iii-klasiu-mokiniu-prasymu-pateikimas-del-brandos-darbo-pasirinkimo/
END:VEVENT
END:VCALENDAR