BEGIN:VCALENDAR
VERSION:2.0
PRODID:-//Mykolo Biržiškos gimnazija - ECPv5.4.0.1//NONSGML v1.0//EN
CALSCALE:GREGORIAN
METHOD:PUBLISH
X-WR-CALNAME:Mykolo Biržiškos gimnazija
X-ORIGINAL-URL:https://vmbg.lt
X-WR-CALDESC:Events for Mykolo Biržiškos gimnazija
BEGIN:VTIMEZONE
TZID:Europe/Helsinki
BEGIN:DAYLIGHT
TZOFFSETFROM:+0200
TZOFFSETTO:+0300
TZNAME:EEST
DTSTART:20210328T010000
END:DAYLIGHT
BEGIN:STANDARD
TZOFFSETFROM:+0300
TZOFFSETTO:+0200
TZNAME:EET
DTSTART:20211031T010000
END:STANDARD
END:VTIMEZONE
BEGIN:VEVENT
DTSTART;TZID=Europe/Helsinki:20211115T080000
DTEND;TZID=Europe/Helsinki:20211210T170000
DTSTAMP:20260422T160129
CREATED:20211110T080922Z
LAST-MODIFIED:20211110T080922Z
UID:10808-1636963200-1639155600@vmbg.lt
SUMMARY:Informatinio mąstymo konkursas Bebras
DESCRIPTION:
URL:https://vmbg.lt/renginiai/informatinio-mastymo-konkursas-bebras/
END:VEVENT
END:VCALENDAR