BEGIN:VCALENDAR
VERSION:2.0
PRODID:-//Mykolo Biržiškos gimnazija - ECPv5.4.0.1//NONSGML v1.0//EN
CALSCALE:GREGORIAN
METHOD:PUBLISH
X-WR-CALNAME:Mykolo Biržiškos gimnazija
X-ORIGINAL-URL:https://vmbg.lt
X-WR-CALDESC:Events for Mykolo Biržiškos gimnazija
BEGIN:VTIMEZONE
TZID:Europe/Helsinki
BEGIN:DAYLIGHT
TZOFFSETFROM:+0200
TZOFFSETTO:+0300
TZNAME:EEST
DTSTART:20210328T010000
END:DAYLIGHT
BEGIN:STANDARD
TZOFFSETFROM:+0300
TZOFFSETTO:+0200
TZNAME:EET
DTSTART:20211031T010000
END:STANDARD
END:VTIMEZONE
BEGIN:VEVENT
DTSTART;VALUE=DATE:20211122
DTEND;VALUE=DATE:20211123
DTSTAMP:20260422T172709
CREATED:20211110T074044Z
LAST-MODIFIED:20211110T075832Z
UID:10792-1637539200-1637625599@vmbg.lt
SUMMARY:IV d klasės mokinės Jundos Rajeckaitės kūrybinių darbų paroda
DESCRIPTION:
URL:https://vmbg.lt/renginiai/iv-d-klases-mokines-jundos-rajeckaites-kurybiniu-darbu-paroda/
LOCATION:I a. foje
END:VEVENT
END:VCALENDAR