BEGIN:VCALENDAR
VERSION:2.0
PRODID:-//Mykolo Biržiškos gimnazija - ECPv5.4.0.1//NONSGML v1.0//EN
CALSCALE:GREGORIAN
METHOD:PUBLISH
X-WR-CALNAME:Mykolo Biržiškos gimnazija
X-ORIGINAL-URL:https://vmbg.lt
X-WR-CALDESC:Events for Mykolo Biržiškos gimnazija
BEGIN:VTIMEZONE
TZID:Europe/Helsinki
BEGIN:DAYLIGHT
TZOFFSETFROM:+0200
TZOFFSETTO:+0300
TZNAME:EEST
DTSTART:20230326T010000
END:DAYLIGHT
BEGIN:STANDARD
TZOFFSETFROM:+0300
TZOFFSETTO:+0200
TZNAME:EET
DTSTART:20231029T010000
END:STANDARD
END:VTIMEZONE
BEGIN:VEVENT
DTSTART;TZID=Europe/Helsinki:20231018T085500
DTEND;TZID=Europe/Helsinki:20231018T125500
DTSTAMP:20260420T075403
CREATED:20231005T145756Z
LAST-MODIFIED:20231005T145756Z
UID:13936-1697619300-1697633700@vmbg.lt
SUMMARY:IV klasių mokinių RAŠINYS –  patikrinamasis lietuvių k. darbas
DESCRIPTION:
URL:https://vmbg.lt/renginiai/iv-klasiu-mokiniu-rasinys-patikrinamasis-lietuviu-k-darbas/
END:VEVENT
END:VCALENDAR