BEGIN:VCALENDAR
VERSION:2.0
PRODID:-//Mykolo Biržiškos gimnazija - ECPv5.4.0.1//NONSGML v1.0//EN
CALSCALE:GREGORIAN
METHOD:PUBLISH
X-WR-CALNAME:Mykolo Biržiškos gimnazija
X-ORIGINAL-URL:https://vmbg.lt
X-WR-CALDESC:Events for Mykolo Biržiškos gimnazija
BEGIN:VTIMEZONE
TZID:Europe/Helsinki
BEGIN:DAYLIGHT
TZOFFSETFROM:+0200
TZOFFSETTO:+0300
TZNAME:EEST
DTSTART:20210328T010000
END:DAYLIGHT
BEGIN:STANDARD
TZOFFSETFROM:+0300
TZOFFSETTO:+0200
TZNAME:EET
DTSTART:20211031T010000
END:STANDARD
END:VTIMEZONE
BEGIN:VEVENT
DTSTART;VALUE=DATE:20211008
DTEND;VALUE=DATE:20211009
DTSTAMP:20260422T203542
CREATED:20210930T094440Z
LAST-MODIFIED:20210930T094440Z
UID:10636-1633651200-1633737599@vmbg.lt
SUMMARY:Keliautojų klubo „Kertam kampą“ žygis „Rytų Lietuva - Gutauninkai - Keliautojų namai“
DESCRIPTION:
URL:https://vmbg.lt/renginiai/keliautoju-klubo-kertam-kampa-zygis-rytu-lietuva-gutauninkai-keliautoju-namai/
END:VEVENT
END:VCALENDAR