BEGIN:VCALENDAR
VERSION:2.0
PRODID:-//Mykolo Biržiškos gimnazija - ECPv5.4.0.1//NONSGML v1.0//EN
CALSCALE:GREGORIAN
METHOD:PUBLISH
X-WR-CALNAME:Mykolo Biržiškos gimnazija
X-ORIGINAL-URL:https://vmbg.lt
X-WR-CALDESC:Events for Mykolo Biržiškos gimnazija
BEGIN:VTIMEZONE
TZID:Europe/Helsinki
BEGIN:DAYLIGHT
TZOFFSETFROM:+0200
TZOFFSETTO:+0300
TZNAME:EEST
DTSTART:20210328T010000
END:DAYLIGHT
BEGIN:STANDARD
TZOFFSETFROM:+0300
TZOFFSETTO:+0200
TZNAME:EET
DTSTART:20211031T010000
END:STANDARD
END:VTIMEZONE
BEGIN:VEVENT
DTSTART;TZID=Europe/Helsinki:20211209T080000
DTEND;TZID=Europe/Helsinki:20211209T150000
DTSTAMP:20260422T173350
CREATED:20211205T171256Z
LAST-MODIFIED:20211205T171256Z
UID:10823-1639036800-1639062000@vmbg.lt
SUMMARY:Klasių fotografavimas
DESCRIPTION:
URL:https://vmbg.lt/renginiai/klasiu-fotografavimas-2/
LOCATION:Aktų salė
END:VEVENT
END:VCALENDAR