BEGIN:VCALENDAR
VERSION:2.0
PRODID:-//Mykolo Biržiškos gimnazija - ECPv5.4.0.1//NONSGML v1.0//EN
CALSCALE:GREGORIAN
METHOD:PUBLISH
X-WR-CALNAME:Mykolo Biržiškos gimnazija
X-ORIGINAL-URL:https://vmbg.lt
X-WR-CALDESC:Events for Mykolo Biržiškos gimnazija
BEGIN:VTIMEZONE
TZID:Europe/Helsinki
BEGIN:DAYLIGHT
TZOFFSETFROM:+0200
TZOFFSETTO:+0300
TZNAME:EEST
DTSTART:20240331T010000
END:DAYLIGHT
BEGIN:STANDARD
TZOFFSETFROM:+0300
TZOFFSETTO:+0200
TZNAME:EET
DTSTART:20241027T010000
END:STANDARD
END:VTIMEZONE
BEGIN:VEVENT
DTSTART;TZID=Europe/Helsinki:20241126T080000
DTEND;TZID=Europe/Helsinki:20241126T094000
DTSTAMP:20260422T191829
CREATED:20241025T105755Z
LAST-MODIFIED:20241025T105755Z
UID:15811-1732608000-1732614000@vmbg.lt
SUMMARY:Lietuvos mokinių matematikos olimpiados I (gimnazijos) etapas
DESCRIPTION:
URL:https://vmbg.lt/renginiai/lietuvos-mokiniu-matematikos-olimpiados-i-gimnazijos-etapas/
END:VEVENT
END:VCALENDAR