BEGIN:VCALENDAR
VERSION:2.0
PRODID:-//Mykolo Biržiškos gimnazija - ECPv5.4.0.1//NONSGML v1.0//EN
CALSCALE:GREGORIAN
METHOD:PUBLISH
X-WR-CALNAME:Mykolo Biržiškos gimnazija
X-ORIGINAL-URL:https://vmbg.lt
X-WR-CALDESC:Events for Mykolo Biržiškos gimnazija
BEGIN:VTIMEZONE
TZID:Europe/Helsinki
BEGIN:DAYLIGHT
TZOFFSETFROM:+0200
TZOFFSETTO:+0300
TZNAME:EEST
DTSTART:20230326T010000
END:DAYLIGHT
BEGIN:STANDARD
TZOFFSETFROM:+0300
TZOFFSETTO:+0200
TZNAME:EET
DTSTART:20231029T010000
END:STANDARD
END:VTIMEZONE
BEGIN:VEVENT
DTSTART;TZID=Europe/Helsinki:20230607T100000
DTEND;TZID=Europe/Helsinki:20230607T100000
DTSTAMP:20260421T232338
CREATED:20230606T083028Z
LAST-MODIFIED:20230606T083109Z
UID:13625-1686132000-1686132000@vmbg.lt
SUMMARY:Literatūrinio tarptautinio projekto „Vilnius: nuo praeities į dabartį“\, skirto Vilniaus 700-mečiui\, pristatymas
DESCRIPTION:Dalyvauja Vasario 16-osios gimnazijos mokiniai\, Alytaus Adolfo Ramanausko-Vanago gimnazijos mokiniai
URL:https://vmbg.lt/renginiai/literaturinio-tarptautinio-projekto-vilnius-nuo-praeities-i-dabarti-skirto-vilniaus-700-meciui-pristatymas/
END:VEVENT
END:VCALENDAR