BEGIN:VCALENDAR
VERSION:2.0
PRODID:-//Mykolo Biržiškos gimnazija - ECPv5.4.0.1//NONSGML v1.0//EN
CALSCALE:GREGORIAN
METHOD:PUBLISH
X-WR-CALNAME:Mykolo Biržiškos gimnazija
X-ORIGINAL-URL:https://vmbg.lt
X-WR-CALDESC:Events for Mykolo Biržiškos gimnazija
BEGIN:VTIMEZONE
TZID:Europe/Helsinki
BEGIN:DAYLIGHT
TZOFFSETFROM:+0200
TZOFFSETTO:+0300
TZNAME:EEST
DTSTART:20220327T010000
END:DAYLIGHT
BEGIN:STANDARD
TZOFFSETFROM:+0300
TZOFFSETTO:+0200
TZNAME:EET
DTSTART:20221030T010000
END:STANDARD
END:VTIMEZONE
BEGIN:VEVENT
DTSTART;TZID=Europe/Helsinki:20220118T090000
DTEND;TZID=Europe/Helsinki:20220118T120000
DTSTAMP:20260422T144227
CREATED:20220109T193504Z
LAST-MODIFIED:20220109T193504Z
UID:11103-1642496400-1642507200@vmbg.lt
SUMMARY:Matematikos patikrinamasis darbas IV  klasių mokiniams
DESCRIPTION:
URL:https://vmbg.lt/renginiai/matematikos-patikrinamasis-darbas-iv-klasiu-mokiniams/
END:VEVENT
END:VCALENDAR