BEGIN:VCALENDAR
VERSION:2.0
PRODID:-//Mykolo Biržiškos gimnazija - ECPv5.4.0.1//NONSGML v1.0//EN
CALSCALE:GREGORIAN
METHOD:PUBLISH
X-WR-CALNAME:Mykolo Biržiškos gimnazija
X-ORIGINAL-URL:https://vmbg.lt
X-WR-CALDESC:Events for Mykolo Biržiškos gimnazija
BEGIN:VTIMEZONE
TZID:Europe/Helsinki
BEGIN:DAYLIGHT
TZOFFSETFROM:+0200
TZOFFSETTO:+0300
TZNAME:EEST
DTSTART:20210328T010000
END:DAYLIGHT
BEGIN:STANDARD
TZOFFSETFROM:+0300
TZOFFSETTO:+0200
TZNAME:EET
DTSTART:20211031T010000
END:STANDARD
END:VTIMEZONE
BEGIN:VEVENT
DTSTART;TZID=Europe/Helsinki:20211125T145500
DTEND;TZID=Europe/Helsinki:20211125T154000
DTSTAMP:20260422T184405
CREATED:20211110T080808Z
LAST-MODIFIED:20211110T080808Z
UID:10806-1637852100-1637854800@vmbg.lt
SUMMARY:Mažoji rusų kalbos olimpiada (I kl.) I etapas
DESCRIPTION:
URL:https://vmbg.lt/renginiai/mazoji-rusu-kalbos-olimpiada-i-kl-i-etapas/
LOCATION:305 kab.
END:VEVENT
END:VCALENDAR