BEGIN:VCALENDAR
VERSION:2.0
PRODID:-//Mykolo Biržiškos gimnazija - ECPv5.4.0.1//NONSGML v1.0//EN
CALSCALE:GREGORIAN
METHOD:PUBLISH
X-WR-CALNAME:Mykolo Biržiškos gimnazija
X-ORIGINAL-URL:https://vmbg.lt
X-WR-CALDESC:Events for Mykolo Biržiškos gimnazija
BEGIN:VTIMEZONE
TZID:Europe/Helsinki
BEGIN:DAYLIGHT
TZOFFSETFROM:+0200
TZOFFSETTO:+0300
TZNAME:EEST
DTSTART:20230326T010000
END:DAYLIGHT
BEGIN:STANDARD
TZOFFSETFROM:+0300
TZOFFSETTO:+0200
TZNAME:EET
DTSTART:20231029T010000
END:STANDARD
END:VTIMEZONE
BEGIN:VEVENT
DTSTART;VALUE=DATE:20231108
DTEND;VALUE=DATE:20231109
DTSTAMP:20260419T182705
CREATED:20231106T175854Z
LAST-MODIFIED:20231106T175941Z
UID:14257-1699401600-1699487999@vmbg.lt
SUMMARY:Mokinių tapybos darbų paroda „Atradimai“ trečio aukšto fojė
DESCRIPTION:
URL:https://vmbg.lt/renginiai/mokiniu-tapybos-darbu-paroda-atradimai-trecio-auksto-foje/
END:VEVENT
END:VCALENDAR