BEGIN:VCALENDAR
VERSION:2.0
PRODID:-//Mykolo Biržiškos gimnazija - ECPv5.4.0.1//NONSGML v1.0//EN
CALSCALE:GREGORIAN
METHOD:PUBLISH
X-WR-CALNAME:Mykolo Biržiškos gimnazija
X-ORIGINAL-URL:https://vmbg.lt
X-WR-CALDESC:Events for Mykolo Biržiškos gimnazija
BEGIN:VTIMEZONE
TZID:Europe/Helsinki
BEGIN:DAYLIGHT
TZOFFSETFROM:+0200
TZOFFSETTO:+0300
TZNAME:EEST
DTSTART:20230326T010000
END:DAYLIGHT
BEGIN:STANDARD
TZOFFSETFROM:+0300
TZOFFSETTO:+0200
TZNAME:EET
DTSTART:20231029T010000
END:STANDARD
END:VTIMEZONE
BEGIN:VEVENT
DTSTART;TZID=Europe/Helsinki:20230901T090000
DTEND;TZID=Europe/Helsinki:20230901T090000
DTSTAMP:20260421T093043
CREATED:20230904T181538Z
LAST-MODIFIED:20230904T181538Z
UID:13800-1693558800-1693558800@vmbg.lt
SUMMARY:Mokslo ir žinių diena
DESCRIPTION:
URL:https://vmbg.lt/renginiai/mokslo-ir-ziniu-diena/
END:VEVENT
END:VCALENDAR