BEGIN:VCALENDAR
VERSION:2.0
PRODID:-//Mykolo Biržiškos gimnazija - ECPv5.4.0.1//NONSGML v1.0//EN
CALSCALE:GREGORIAN
METHOD:PUBLISH
X-WR-CALNAME:Mykolo Biržiškos gimnazija
X-ORIGINAL-URL:https://vmbg.lt
X-WR-CALDESC:Events for Mykolo Biržiškos gimnazija
BEGIN:VTIMEZONE
TZID:Europe/Helsinki
BEGIN:DAYLIGHT
TZOFFSETFROM:+0200
TZOFFSETTO:+0300
TZNAME:EEST
DTSTART:20210328T010000
END:DAYLIGHT
BEGIN:STANDARD
TZOFFSETFROM:+0300
TZOFFSETTO:+0200
TZNAME:EET
DTSTART:20211031T010000
END:STANDARD
END:VTIMEZONE
BEGIN:VEVENT
DTSTART;TZID=Europe/Helsinki:20211216T140000
DTEND;TZID=Europe/Helsinki:20211216T140000
DTSTAMP:20260422T174658
CREATED:20211205T172640Z
LAST-MODIFIED:20211205T172640Z
UID:10844-1639663200-1639663200@vmbg.lt
SUMMARY:Muzikos klubo „Akoladė“ koncertas „Skambančios kalėdos“
DESCRIPTION:
URL:https://vmbg.lt/renginiai/muzikos-klubo-akolade-koncertas-skambancios-kaledos/
LOCATION:Aktų salė
END:VEVENT
END:VCALENDAR