BEGIN:VCALENDAR
VERSION:2.0
PRODID:-//Mykolo Biržiškos gimnazija - ECPv5.4.0.1//NONSGML v1.0//EN
CALSCALE:GREGORIAN
METHOD:PUBLISH
X-WR-CALNAME:Mykolo Biržiškos gimnazija
X-ORIGINAL-URL:https://vmbg.lt
X-WR-CALDESC:Events for Mykolo Biržiškos gimnazija
BEGIN:VTIMEZONE
TZID:Europe/Helsinki
BEGIN:DAYLIGHT
TZOFFSETFROM:+0200
TZOFFSETTO:+0300
TZNAME:EEST
DTSTART:20210328T010000
END:DAYLIGHT
BEGIN:STANDARD
TZOFFSETFROM:+0300
TZOFFSETTO:+0200
TZNAME:EET
DTSTART:20211031T010000
END:STANDARD
END:VTIMEZONE
BEGIN:VEVENT
DTSTART;VALUE=DATE:20211022
DTEND;VALUE=DATE:20211023
DTSTAMP:20260422T191052
CREATED:20211006T103607Z
LAST-MODIFIED:20211006T103856Z
UID:10663-1634860800-1634947199@vmbg.lt
SUMMARY:Pažintinė išvyka į prof. Mykolo Biržiškos tėviškę – Viekšnius (I a ir I b kl.)
DESCRIPTION:
URL:https://vmbg.lt/renginiai/pazintine-isvyka-i-prof-mykolo-birziskos-teviske-vieksnius-i-a-ir-i-b-kl/
END:VEVENT
END:VCALENDAR