BEGIN:VCALENDAR
VERSION:2.0
PRODID:-//Mykolo Biržiškos gimnazija - ECPv5.4.0.1//NONSGML v1.0//EN
CALSCALE:GREGORIAN
METHOD:PUBLISH
X-WR-CALNAME:Mykolo Biržiškos gimnazija
X-ORIGINAL-URL:https://vmbg.lt
X-WR-CALDESC:Events for Mykolo Biržiškos gimnazija
BEGIN:VTIMEZONE
TZID:Europe/Helsinki
BEGIN:DAYLIGHT
TZOFFSETFROM:+0200
TZOFFSETTO:+0300
TZNAME:EEST
DTSTART:20230326T010000
END:DAYLIGHT
BEGIN:STANDARD
TZOFFSETFROM:+0300
TZOFFSETTO:+0200
TZNAME:EET
DTSTART:20231029T010000
END:STANDARD
END:VTIMEZONE
BEGIN:VEVENT
DTSTART;TZID=Europe/Helsinki:20230516T120000
DTEND;TZID=Europe/Helsinki:20230516T120000
DTSTAMP:20260422T233750
CREATED:20230502T072813Z
LAST-MODIFIED:20230502T072813Z
UID:13444-1684238400-1684238400@vmbg.lt
SUMMARY:Šalies mokinių mokslinė konferencija užsienio (rusų) k. „Man įdomu“ I kl. (Zoom)
DESCRIPTION:
URL:https://vmbg.lt/renginiai/salies-mokiniu-moksline-konferencija-uzsienio-rusu-k-man-idomu-i-kl-zoom/
END:VEVENT
END:VCALENDAR