BEGIN:VCALENDAR
VERSION:2.0
PRODID:-//Mykolo Biržiškos gimnazija - ECPv5.4.0.1//NONSGML v1.0//EN
CALSCALE:GREGORIAN
METHOD:PUBLISH
X-WR-CALNAME:Mykolo Biržiškos gimnazija
X-ORIGINAL-URL:https://vmbg.lt
X-WR-CALDESC:Events for Mykolo Biržiškos gimnazija
BEGIN:VTIMEZONE
TZID:Europe/Helsinki
BEGIN:DAYLIGHT
TZOFFSETFROM:+0200
TZOFFSETTO:+0300
TZNAME:EEST
DTSTART:20210328T010000
END:DAYLIGHT
BEGIN:STANDARD
TZOFFSETFROM:+0300
TZOFFSETTO:+0200
TZNAME:EET
DTSTART:20211031T010000
END:STANDARD
END:VTIMEZONE
BEGIN:VEVENT
DTSTART;VALUE=DATE:20211116
DTEND;VALUE=DATE:20211117
DTSTAMP:20260422T173505
CREATED:20211110T073639Z
LAST-MODIFIED:20211110T073639Z
UID:10786-1637020800-1637107199@vmbg.lt
SUMMARY:Tarptautinei tolerancijos dienai paminėti – Leonidas Donskis:  „Tolerancija – tai kasdieniai išmėginimai“
DESCRIPTION:
URL:https://vmbg.lt/renginiai/tarptautinei-tolerancijos-dienai-pamineti-leonidas-donskis-tolerancija-tai-kasdieniai-ismeginimai/
END:VEVENT
END:VCALENDAR