BEGIN:VCALENDAR
VERSION:2.0
PRODID:-//Mykolo Biržiškos gimnazija - ECPv5.4.0.1//NONSGML v1.0//EN
CALSCALE:GREGORIAN
METHOD:PUBLISH
X-WR-CALNAME:Mykolo Biržiškos gimnazija
X-ORIGINAL-URL:https://vmbg.lt
X-WR-CALDESC:Events for Mykolo Biržiškos gimnazija
BEGIN:VTIMEZONE
TZID:Europe/Helsinki
BEGIN:DAYLIGHT
TZOFFSETFROM:+0200
TZOFFSETTO:+0300
TZNAME:EEST
DTSTART:20210328T010000
END:DAYLIGHT
BEGIN:STANDARD
TZOFFSETFROM:+0300
TZOFFSETTO:+0200
TZNAME:EET
DTSTART:20211031T010000
END:STANDARD
END:VTIMEZONE
BEGIN:VEVENT
DTSTART;VALUE=DATE:20211017
DTEND;VALUE=DATE:20211024
DTSTAMP:20260422T191159
CREATED:20210930T095029Z
LAST-MODIFIED:20210930T095029Z
UID:10642-1634428800-1635033599@vmbg.lt
SUMMARY:Tarptautinio daugiašalio Erasmus+ mokyklų mainų partnerysčių projekto „Mes skaitome\, vadinasi\, mes esame“ (WE READ THEREFORE WE ARE) susitikimas Rumunijoje
DESCRIPTION:
URL:https://vmbg.lt/renginiai/tarptautinio-daugiasalio-erasmus-mokyklu-mainu-partnerysciu-projekto-mes-skaitome-vadinasi-mes-esame-we-read-therefore-we-are-susitikimas-rumunijoje/
END:VEVENT
END:VCALENDAR