BEGIN:VCALENDAR
VERSION:2.0
PRODID:-//Mykolo Biržiškos gimnazija - ECPv5.4.0.1//NONSGML v1.0//EN
CALSCALE:GREGORIAN
METHOD:PUBLISH
X-WR-CALNAME:Mykolo Biržiškos gimnazija
X-ORIGINAL-URL:https://vmbg.lt
X-WR-CALDESC:Events for Mykolo Biržiškos gimnazija
BEGIN:VTIMEZONE
TZID:Europe/Helsinki
BEGIN:DAYLIGHT
TZOFFSETFROM:+0200
TZOFFSETTO:+0300
TZNAME:EEST
DTSTART:20230326T010000
END:DAYLIGHT
BEGIN:STANDARD
TZOFFSETFROM:+0300
TZOFFSETTO:+0200
TZNAME:EET
DTSTART:20231029T010000
END:STANDARD
END:VTIMEZONE
BEGIN:VEVENT
DTSTART;TZID=Europe/Helsinki:20230525T130000
DTEND;TZID=Europe/Helsinki:20230525T130000
DTSTAMP:20260423T005505
CREATED:20230504T053810Z
LAST-MODIFIED:20230504T053810Z
UID:13463-1685019600-1685019600@vmbg.lt
SUMMARY:Teatro studijos  \,\,Žmogonai"  spektaklio \,\,Meilė\, džiazas\, velnias   (pagal J. Grušą) premjera
DESCRIPTION:
URL:https://vmbg.lt/renginiai/teatro-studijos-zmogonai-spektaklio-meile-dziazas-velnias-pagal-j-grusa-premjera/
END:VEVENT
END:VCALENDAR