BEGIN:VCALENDAR
VERSION:2.0
PRODID:-//Mykolo Biržiškos gimnazija - ECPv5.4.0.1//NONSGML v1.0//EN
CALSCALE:GREGORIAN
METHOD:PUBLISH
X-WR-CALNAME:Mykolo Biržiškos gimnazija
X-ORIGINAL-URL:https://vmbg.lt
X-WR-CALDESC:Events for Mykolo Biržiškos gimnazija
BEGIN:VTIMEZONE
TZID:Europe/Helsinki
BEGIN:DAYLIGHT
TZOFFSETFROM:+0200
TZOFFSETTO:+0300
TZNAME:EEST
DTSTART:20210328T010000
END:DAYLIGHT
BEGIN:STANDARD
TZOFFSETFROM:+0300
TZOFFSETTO:+0200
TZNAME:EET
DTSTART:20211031T010000
END:STANDARD
END:VTIMEZONE
BEGIN:VEVENT
DTSTART;VALUE=DATE:20211123
DTEND;VALUE=DATE:20211124
DTSTAMP:20260422T173329
CREATED:20211110T075929Z
LAST-MODIFIED:20211110T075929Z
UID:10795-1637625600-1637711999@vmbg.lt
SUMMARY:Vilniaus Žvėryno gimnazijos mokinių kūrybinių darbų paroda
DESCRIPTION:
URL:https://vmbg.lt/renginiai/vilniaus-zveryno-gimnazijos-mokiniu-kurybiniu-darbu-paroda/
LOCATION:I a. foje
END:VEVENT
END:VCALENDAR