BEGIN:VCALENDAR
VERSION:2.0
PRODID:-//Mykolo Biržiškos gimnazija - ECPv5.4.0.1//NONSGML v1.0//EN
CALSCALE:GREGORIAN
METHOD:PUBLISH
X-WR-CALNAME:Mykolo Biržiškos gimnazija
X-ORIGINAL-URL:https://vmbg.lt
X-WR-CALDESC:Events for Mykolo Biržiškos gimnazija
BEGIN:VTIMEZONE
TZID:Europe/Helsinki
BEGIN:DAYLIGHT
TZOFFSETFROM:+0200
TZOFFSETTO:+0300
TZNAME:EEST
DTSTART:20230326T010000
END:DAYLIGHT
BEGIN:STANDARD
TZOFFSETFROM:+0300
TZOFFSETTO:+0200
TZNAME:EET
DTSTART:20231029T010000
END:STANDARD
END:VTIMEZONE
BEGIN:VEVENT
DTSTART;TZID=Europe/Helsinki:20231108T085500
DTEND;TZID=Europe/Helsinki:20231108T103500
DTSTAMP:20260419T165512
CREATED:20231106T180344Z
LAST-MODIFIED:20231106T180344Z
UID:14261-1699433700-1699439700@vmbg.lt
SUMMARY:VŠĮ Šeškinės poliklinikos Jaunimo sveikatos kabinetas \,\,Streso atpažinimas ir valdymas”.  Dalyvauja I c ir I d klasės
DESCRIPTION:
URL:https://vmbg.lt/renginiai/vsi-seskines-poliklinikos-jaunimo-sveikatos-kabinetas-streso-atpazinimas-ir-valdymas-dalyvauja-i-c-ir-i-d-klases/
END:VEVENT
END:VCALENDAR