BEGIN:VCALENDAR
VERSION:2.0
PRODID:-//Mykolo Biržiškos gimnazija - ECPv5.4.0.1//NONSGML v1.0//EN
CALSCALE:GREGORIAN
METHOD:PUBLISH
X-WR-CALNAME:Mykolo Biržiškos gimnazija
X-ORIGINAL-URL:https://vmbg.lt
X-WR-CALDESC:Events for Mykolo Biržiškos gimnazija
BEGIN:VTIMEZONE
TZID:Europe/Helsinki
BEGIN:DAYLIGHT
TZOFFSETFROM:+0200
TZOFFSETTO:+0300
TZNAME:EEST
DTSTART:20210328T010000
END:DAYLIGHT
BEGIN:STANDARD
TZOFFSETFROM:+0300
TZOFFSETTO:+0200
TZNAME:EET
DTSTART:20211031T010000
END:STANDARD
END:VTIMEZONE
BEGIN:VEVENT
DTSTART;TZID=Europe/Helsinki:20211202T080000
DTEND;TZID=Europe/Helsinki:20211202T084500
DTSTAMP:20260422T160042
CREATED:20211205T173031Z
LAST-MODIFIED:20211205T173031Z
UID:10852-1638432000-1638434700@vmbg.lt
SUMMARY:VšĮ „Žemiau bambos“ paskaita „Pirmas kartas“
DESCRIPTION:
URL:https://vmbg.lt/renginiai/vsi-zemiau-bambos-paskaita-pirmas-kartas/
END:VEVENT
END:VCALENDAR